BEGIN:VCALENDAR
VERSION:2.0
PRODID:-//Long Bay Symphony - ECPv6.15.20//NONSGML v1.0//EN
CALSCALE:GREGORIAN
METHOD:PUBLISH
X-WR-CALNAME:Long Bay Symphony
X-ORIGINAL-URL:https://www.longbaysymphony.com
X-WR-CALDESC:Events for Long Bay Symphony
REFRESH-INTERVAL;VALUE=DURATION:PT1H
X-Robots-Tag:noindex
X-PUBLISHED-TTL:PT1H
BEGIN:VTIMEZONE
TZID:America/New_York
BEGIN:DAYLIGHT
TZOFFSETFROM:-0500
TZOFFSETTO:-0400
TZNAME:EDT
DTSTART:20200308T070000
END:DAYLIGHT
BEGIN:STANDARD
TZOFFSETFROM:-0400
TZOFFSETTO:-0500
TZNAME:EST
DTSTART:20201101T060000
END:STANDARD
BEGIN:DAYLIGHT
TZOFFSETFROM:-0500
TZOFFSETTO:-0400
TZNAME:EDT
DTSTART:20210314T070000
END:DAYLIGHT
BEGIN:STANDARD
TZOFFSETFROM:-0400
TZOFFSETTO:-0500
TZNAME:EST
DTSTART:20211107T060000
END:STANDARD
BEGIN:DAYLIGHT
TZOFFSETFROM:-0500
TZOFFSETTO:-0400
TZNAME:EDT
DTSTART:20220313T070000
END:DAYLIGHT
BEGIN:STANDARD
TZOFFSETFROM:-0400
TZOFFSETTO:-0500
TZNAME:EST
DTSTART:20221106T060000
END:STANDARD
END:VTIMEZONE
BEGIN:VEVENT
DTSTART;TZID=America/New_York:20210525T150000
DTEND;TZID=America/New_York:20210525T163000
DTSTAMP:20260420T101625
CREATED:20210406T203439Z
LAST-MODIFIED:20210624T163633Z
UID:15563-1621954800-1621960200@www.longbaysymphony.com
SUMMARY:Classical Mystery Tour: A Tribute to the Beatles
DESCRIPTION:The Long Bay Symphony’s 2021 Pops Concert\, Classical Mystery Tour: A Tribute to the Beatles is the event you won’t want to miss. The full show presents some two dozen Beatles tunes sung\, played\, and performed exactly as they were written. Hear “Penny Lane” with a live trumpet section; experience the beauty of “Yesterday” with an acoustic guitar and string quartet; enjoy the rock/classical blend on the hard edged “I Am the Walrus." From early Beatles music on through the solo years\, Classical Mystery Tour is the best of The Beatles like you’ve never heard them: totally live. \nJoin the Long Bay Symphony for an unforgettable Pops concert at Pelicans Stadium on Friday May 7th\, 2021 at 7:00PM. Social distance seating will be in effect and masks will be required to enter. Tickets will be $45-$55. \nCLICK HERE TO VIEW PROGRAM \n \n 
URL:https://www.longbaysymphony.com/event/classical-mystery-tour-a-tribute-to-the-beatles/
LOCATION:Myrtle Beach Pelicans Stadium\, 1251 21st Ave N\, Myrtle Beach\, SC\, 29577\, United States
CATEGORIES:Pops Concert
ATTACH;FMTTYPE=image/jpeg:https://www.longbaysymphony.com/wp-content/uploads/2021/04/CMT-Group-7-NEW-photo-credit-Terry-Barnhill.jpg
END:VEVENT
END:VCALENDAR