BEGIN:VCALENDAR
VERSION:2.0
PRODID:-//Long Bay Symphony - ECPv6.15.20//NONSGML v1.0//EN
CALSCALE:GREGORIAN
METHOD:PUBLISH
X-WR-CALNAME:Long Bay Symphony
X-ORIGINAL-URL:https://www.longbaysymphony.com
X-WR-CALDESC:Events for Long Bay Symphony
REFRESH-INTERVAL;VALUE=DURATION:PT1H
X-Robots-Tag:noindex
X-PUBLISHED-TTL:PT1H
BEGIN:VTIMEZONE
TZID:America/New_York
BEGIN:DAYLIGHT
TZOFFSETFROM:-0500
TZOFFSETTO:-0400
TZNAME:EDT
DTSTART:20240310T070000
END:DAYLIGHT
BEGIN:STANDARD
TZOFFSETFROM:-0400
TZOFFSETTO:-0500
TZNAME:EST
DTSTART:20241103T060000
END:STANDARD
BEGIN:DAYLIGHT
TZOFFSETFROM:-0500
TZOFFSETTO:-0400
TZNAME:EDT
DTSTART:20250309T070000
END:DAYLIGHT
BEGIN:STANDARD
TZOFFSETFROM:-0400
TZOFFSETTO:-0500
TZNAME:EST
DTSTART:20251102T060000
END:STANDARD
BEGIN:DAYLIGHT
TZOFFSETFROM:-0500
TZOFFSETTO:-0400
TZNAME:EDT
DTSTART:20260308T070000
END:DAYLIGHT
BEGIN:STANDARD
TZOFFSETFROM:-0400
TZOFFSETTO:-0500
TZNAME:EST
DTSTART:20261101T060000
END:STANDARD
END:VTIMEZONE
BEGIN:VEVENT
DTSTART;TZID=America/New_York:20250430T193000
DTEND;TZID=America/New_York:20250430T193000
DTSTAMP:20260423T070216
CREATED:20240718T163530Z
LAST-MODIFIED:20250324T175954Z
UID:16574-1746041400-1746041400@www.longbaysymphony.com
SUMMARY:Long Bay Youth Spring Concert
DESCRIPTION:The Long Bay Youth Symphony\, under the direction of Dr. Charles Jones Evans\, presents its Spring Concert on Wednesday\, April 30th at 7:30 in the MBHS Music & Arts Center Auditorium. The program will feature the winners of the annual LBYS Concerto Competition: pianist Jeff Gao\, performing Norwegian composer Edvard Grieg’s Piano Concerto (1st Movement)\, and bassist Andrew Henderson\, performing the Bass Concerto No. 2  by Austrian Carl Dittersdorf. \nThe LBYS continues the international theme with a variety of symphonic pieces\, including Finlandia by Finnish composer Jean Sibelius; Two Dances from the Czech nationalist opera The Bartered Bride by Bedrich Smetana; and highlights from the hit musical/movie Wicked by Stephen Schwartz . \nIn addition\, select smaller chamber music ensembles from within the orchestra will be highlighted. \nTickets are $10 for admission; free for students! 
URL:https://www.longbaysymphony.com/event/long-bay-youth-spring-concert-2/
LOCATION:MBHS Music and Arts Center\, 3302 Robert M Grissom Pkwy\, Myrtle Beach\, South Carolina\, 29577
CATEGORIES:24-25 Season,Long Bay Youth Orchestra
ATTACH;FMTTYPE=image/jpeg:https://www.longbaysymphony.com/wp-content/uploads/2023/06/CKP_LBS_Jan_2023-6-scaled.jpg
END:VEVENT
END:VCALENDAR