BEGIN:VCALENDAR
VERSION:2.0
PRODID:-//Long Bay Symphony - ECPv6.15.20//NONSGML v1.0//EN
CALSCALE:GREGORIAN
METHOD:PUBLISH
X-WR-CALNAME:Long Bay Symphony
X-ORIGINAL-URL:https://www.longbaysymphony.com
X-WR-CALDESC:Events for Long Bay Symphony
REFRESH-INTERVAL;VALUE=DURATION:PT1H
X-Robots-Tag:noindex
X-PUBLISHED-TTL:PT1H
BEGIN:VTIMEZONE
TZID:America/New_York
BEGIN:DAYLIGHT
TZOFFSETFROM:-0500
TZOFFSETTO:-0400
TZNAME:EDT
DTSTART:20150308T070000
END:DAYLIGHT
BEGIN:STANDARD
TZOFFSETFROM:-0400
TZOFFSETTO:-0500
TZNAME:EST
DTSTART:20151101T060000
END:STANDARD
BEGIN:DAYLIGHT
TZOFFSETFROM:-0500
TZOFFSETTO:-0400
TZNAME:EDT
DTSTART:20160313T070000
END:DAYLIGHT
BEGIN:STANDARD
TZOFFSETFROM:-0400
TZOFFSETTO:-0500
TZNAME:EST
DTSTART:20161106T060000
END:STANDARD
BEGIN:DAYLIGHT
TZOFFSETFROM:-0500
TZOFFSETTO:-0400
TZNAME:EDT
DTSTART:20170312T070000
END:DAYLIGHT
BEGIN:STANDARD
TZOFFSETFROM:-0400
TZOFFSETTO:-0500
TZNAME:EST
DTSTART:20171105T060000
END:STANDARD
END:VTIMEZONE
BEGIN:VEVENT
DTSTART;TZID=America/New_York:20160427T153000
DTEND;TZID=America/New_York:20160427T163000
DTSTAMP:20260423T073940
CREATED:20150722T172614Z
LAST-MODIFIED:20150722T172614Z
UID:11886-1461771000-1461774600@www.longbaysymphony.com
SUMMARY:Spring Youth Orchestra Concert
DESCRIPTION:
URL:https://www.longbaysymphony.com/event/spring-youth-orchestra-concert/
LOCATION:Wheelwright Auditorium\, Coastal Carolina University\, SC\, 29526\, United States
CATEGORIES:Long Bay Youth Orchestra
END:VEVENT
END:VCALENDAR